BEGIN:VCALENDAR
VERSION:2.0
PRODID:-//que hacer magazine - ECPv6.15.20//NONSGML v1.0//EN
CALSCALE:GREGORIAN
METHOD:PUBLISH
X-WR-CALNAME:que hacer magazine
X-ORIGINAL-URL:https://quehacermagazine.com
X-WR-CALDESC:Eventos para que hacer magazine
REFRESH-INTERVAL;VALUE=DURATION:PT1H
X-Robots-Tag:noindex
X-PUBLISHED-TTL:PT1H
BEGIN:VTIMEZONE
TZID:America/New_York
BEGIN:DAYLIGHT
TZOFFSETFROM:-0500
TZOFFSETTO:-0400
TZNAME:EDT
DTSTART:20220313T070000
END:DAYLIGHT
BEGIN:STANDARD
TZOFFSETFROM:-0400
TZOFFSETTO:-0500
TZNAME:EST
DTSTART:20221106T060000
END:STANDARD
BEGIN:DAYLIGHT
TZOFFSETFROM:-0500
TZOFFSETTO:-0400
TZNAME:EDT
DTSTART:20230312T070000
END:DAYLIGHT
BEGIN:STANDARD
TZOFFSETFROM:-0400
TZOFFSETTO:-0500
TZNAME:EST
DTSTART:20231105T060000
END:STANDARD
BEGIN:DAYLIGHT
TZOFFSETFROM:-0500
TZOFFSETTO:-0400
TZNAME:EDT
DTSTART:20240310T070000
END:DAYLIGHT
BEGIN:STANDARD
TZOFFSETFROM:-0400
TZOFFSETTO:-0500
TZNAME:EST
DTSTART:20241103T060000
END:STANDARD
BEGIN:DAYLIGHT
TZOFFSETFROM:-0500
TZOFFSETTO:-0400
TZNAME:EDT
DTSTART:20250309T070000
END:DAYLIGHT
BEGIN:STANDARD
TZOFFSETFROM:-0400
TZOFFSETTO:-0500
TZNAME:EST
DTSTART:20251102T060000
END:STANDARD
END:VTIMEZONE
BEGIN:VEVENT
DTSTART;TZID=America/New_York:20240802T170000
DTEND;TZID=America/New_York:20240802T200000
DTSTAMP:20260423T122203
CREATED:20240724T160501Z
LAST-MODIFIED:20240724T185400Z
UID:4934-1722618000-1722628800@quehacermagazine.com
SUMMARY:Serie de Conciertos Gratis En Boynton Beach
DESCRIPTION:Boynton Beach\, una vibrante ciudad costera en Florida\, ofrece una serie de conciertos gratuitos que son un verdadero regalo para los amantes de la música y el entretenimiento al aire libre. Estos eventos no solo destacan por su acceso libre\, sino también por la variedad de actividades y la atmósfera acogedora que brindan. Cada mes\, residentes y visitantes se reúnen para disfrutar de espectáculos musicales en un entorno natural\, creando recuerdos inolvidables con amigos\, familia y pareja. \nHistoria y Origen de los Conciertos al Aire Libre en Boynton Beach\nLa tradición de los conciertos al aire libre en Boynton Beach tiene raíces profundas\, originándose como una iniciativa para fomentar la cultura y el entretenimiento en la comunidad local. Desde sus inicios\, estos conciertos han evolucionado para incluir una variedad de géneros musicales y actividades\, atrayendo a un público diverso y entusiasta. La ciudad ha trabajado arduamente para mantener esta tradición\, asegurando que cada evento sea accesible y disfrutable para todos. \nQué Esperar en la Serie de Conciertos Mensuales\nCada concierto mensual en Boynton Beach es una experiencia única\, caracterizada por una amplia oferta de entretenimiento. Desde la llegada\, los asistentes son recibidos por una vibrante atmósfera llena de música en vivo\, puestos de comida y tiendas. La variedad de actividades está diseñada para atraer a todas las edades\, desde los más pequeños hasta los adultos\, garantizando que todos encuentren algo de su agrado. \nLa serie de conciertos\, que se celebra uno al mes\, es conocida por su ambiente familiar y amigable. Es común ver a grupos de amigos y familias enteras disfrutando de la música\, compartiendo una comida o simplemente relajándose en el césped. La accesibilidad es una prioridad\, con parqueadero gratuito y áreas designadas para que todos puedan disfrutar del evento cómodamente. \nVariedad Musical y Entretenimiento para Todos los Gustos\nUna de las mayores atracciones de estos conciertos es la diversidad musical. Desde rock y pop hasta jazz y música clásica\, la programación incluye una amplia gama de géneros que satisfacen todos los gustos. Además de la música\, hay DJs que mantienen el ambiente animado entre las presentaciones\, creando una experiencia dinámica y emocionante. \n“Esta es una serie de conciertos\, uno al mes\, que son conciertos al aire libre\, donde va a haber mucho entretenimiento\, música\, comida\, DJs\, tiendas\, y es un espectáculo y un evento para compartir con amigos\, con la familia\, en pareja. Es una serie de conciertos muy divertidos\, música de toda clase\, el parqueadero va a ser gratis\, y siempre va a haber entretenimiento” \n  \nComida\, DJs y Tiendas: Todo lo que Ofrecen los Conciertos\nAdemás de la excelente música\, estos conciertos son una delicia gastronómica. Varios puestos de comida ofrecen desde snacks ligeros hasta comidas completas\, permitiendo a los asistentes degustar una variedad de opciones culinarias. Las tiendas también son una atracción popular\, ofreciendo desde artesanías locales hasta productos únicos que no se encuentran en otros lugares. \nLa presencia de DJs agrega un toque extra de entretenimiento\, manteniendo a la multitud animada y creando un ambiente festivo que perdura durante todo el evento. Es común ver a la gente bailando y disfrutando de la música\, creando una atmósfera vibrante y enérgica. \n  \nDetalles Logísticos: Fechas\, Horarios y Ubicación\nLos conciertos se llevan a cabo el primer viernes de cada mes\, comenzando a las 5 PM. La ubicación habitual es un parque céntrico en Boynton Beach\, fácilmente accesible para todos los residentes y visitantes. Es recomendable llegar temprano para encontrar un buen lugar y aprovechar al máximo las actividades previas al concierto. \nLos organizadores se aseguran de proporcionar toda la información necesaria con antelación\, incluyendo las medidas de seguridad y las recomendaciones para los asistentes. Esto permite a todos disfrutar del evento sin preocupaciones y con total seguridad. \nDETAILS\nDate: August 2 \nTime: 5:00 pm – 8:00 pm \nSeries: Boynton Beach Free Monthly Concert Series \nCost: Free \nEvent Tags: Boynton Beach Events\, Family Friendly Events Boynton Beach \nWebsite: https://www.boynton-beach.org/ \nVENUE\nCentennial Park and Amphitheatre\, Boynton Beach \n120 E. Ocean Ave \nBoynton Beach\, FL 33435 United States \nPhone: 5617426220 \nView Venue Website \nSUBMITTED BY\nCity of Boynton Beach \nPhone: 561-742-6034 \nEmail: marketing@bbfl.us \nView Submitted By Website
URL:https://quehacermagazine.com/evento/serie-de-conciertos-gratis-en-boynton-beach-2/
CATEGORIES:conciertos
ATTACH;FMTTYPE=image/png:https://quehacermagazine.com/wp-content/uploads/eventos-1.png
END:VEVENT
BEGIN:VEVENT
DTSTART;VALUE=DATE:20240717
DTEND;VALUE=DATE:20240723
DTSTAMP:20260423T122203
CREATED:20240717T020500Z
LAST-MODIFIED:20240724T185423Z
UID:4804-1721174400-1721692799@quehacermagazine.com
SUMMARY:Congreso de Salsa Miami 2024
DESCRIPTION:El Congreso de Salsa en Miami es una oportunidad grandiosa para disfrutar de un evento maravilloso lleno de música salsa\, bailes vibrantes y un ambiente festivo que celebra la cultura latina. Cada año\, entusiastas del baile y aficionados a la música se reúnen en Miami para participar en uno de los eventos de salsa más prestigiosos del mundo. Este congreso no solo es una plataforma para aprender y mejorar las habilidades de baile\, sino también para disfrutar de la diversidad cultural\, la gastronomía local y la calidez de la comunidad de salsa. \nHistoria del Congreso de Salsa en Miami\nEl Congreso de Salsa en Miami tiene una rica historia que se remonta a sus inicios en los años 90. Desde entonces\, ha evolucionado hasta convertirse en un evento internacional que atrae a bailarines\, músicos y espectadores de todo el mundo. Lo que comenzó como una reunión local de amantes de la salsa ha crecido en magnitud y popularidad\, convirtiéndose en una celebración anual de la música y el baile latino. A lo largo de los años\, el congreso ha presentado a algunos de los artistas más talentosos y reconocidos del género\, consolidando su reputación como un evento imperdible en el calendario de la salsa. \nActividades y Eventos Principales\nEl Congreso de Salsa en Miami ofrece una variedad de actividades y eventos diseñados para todos los niveles de habilidad y preferencias. Los asistentes pueden participar en talleres de baile\, donde instructores expertos enseñan desde los pasos básicos hasta técnicas avanzadas. Para los que ya saben bailar\, hay competencias y exhibiciones que muestran el talento y la creatividad de los participantes. Además\, el congreso cuenta con espectáculos en vivo de bandas de salsa y DJs que mantienen la pista de baile vibrante y llena de energía durante toda la noche. \nTalleres de Baile: Aprendiendo de los Mejores\nUna de las principales atracciones del Congreso de Salsa en Miami son los talleres de baile\, que son una oportunidad única para aprender de los mejores. Instructores de renombre mundial imparten clases que abarcan una amplia gama de estilos de salsa\, desde el clásico cubano hasta el moderno estilo LA. Estos talleres son ideales tanto para principiantes que desean aprender a bailar\, como para bailarines experimentados que buscan perfeccionar su técnica. La experiencia de participar en estos talleres es inigualable\, ya que no solo se aprende a bailar\, sino que también se disfruta de la música latina\, los cócteles y la atmósfera festiva. \nEspectáculos y Actuaciones\nLos espectáculos y actuaciones en el Congreso de Salsa en Miami son verdaderamente impresionantes. Cada noche\, el escenario se llena de vida con presentaciones de bailarines profesionales\, grupos de baile y músicos en vivo. Estos espectáculos son una celebración de la cultura latina y una muestra del increíble talento que existe en la comunidad de salsa. Desde rutinas coreografiadas hasta improvisaciones llenas de pasión\, cada actuación es una oportunidad para disfrutar de la música\, la danza y el arte en su máxima expresión. \nGastronomía y Bebidas: Sabores del Congreso\nEl Congreso de Salsa en Miami no sería completo sin la deliciosa gastronomía y las bebidas que se ofrecen. Los asistentes pueden disfrutar de una variedad de opciones culinarias que incluyen platos tradicionales latinos y cocina internacional. Además\, hay una selección de cócteles y bebidas que complementan perfectamente el ambiente festivo. Desde mojitos refrescantes hasta cócteles de frutas exóticas\, las opciones son abundantes y deliciosas. Comer\, disfrutar de las diferentes bebidas y cócteles es parte integral de la experiencia\, creando un ambiente social perfecto para conocer nuevas personas y disfrutar de la música divertida. \nInformación sobre Artistas y Calendario del Congreso de Salsa en Miami\nArtistas\nEl Congreso de Salsa en Miami reúne a algunos de los artistas más destacados en el mundo de la salsa. Entre los nombres destacados se encuentran: \n\nEddie Torres y Vanessa: Reconocidos por su estilo único y contribuciones al baile de salsa.\nTito Ortos y Tamara Livolsi: Famosos por sus coreografías innovadoras y energía en el escenario.\nAdolfo Indacochea y Tania Cannarsa: Conocidos por su habilidad técnica y performances impresionantes.\n\nCalendario de Eventos\nMiércoles: Fiesta de Apertura \n\n9:00 PM – 1:00 AM: Copper Blues Miami (Entrada gratuita\, mayores de 21 años).\n\nJueves: Fiesta de Inauguración \n\n9:00 PM – 2:00 AM: InterContinental Miami con una lección de salsa por Fernando Sosa (Entrada $20\, gratuita para poseedores de pases completos).\n\nViernes a Domingo: Eventos Principales \n\nViernes:\n\n9:00 AM – 2:00 AM: Apertura de registro y talleres de baile.\n12:00 PM – 7:00 PM: Fiesta en la piscina.\n8:30 PM – 11:00 PM: Exhibiciones internacionales.\n10:00 PM – 5:00 AM: Salas de fiesta cubana\, bachata y salsa.\n\n\nSábado:\n\n9:00 AM – 2:00 AM: Registro y talleres de baile.\n12:00 PM – 7:00 PM: Fiesta en la piscina.\n8:30 PM – 11:00 PM: Exhibiciones internacionales.\n11:00 PM – 5:00 AM: Salas de fiesta cubana\, bachata y salsa.\n\n\nDomingo:\n\n9:00 AM – 2:00 AM: Registro y talleres de baile.\n12:00 PM – 7:00 PM: Fiesta en la piscina.\n8:30 PM – 11:00 PM: Exhibiciones internacionales.\n11:00 PM – 5:00 AM: Salas de fiesta cubana\, bachata y salsa.\n\n\n\nConclusión: La Magia del Congreso de Salsa en Miami\nEl Congreso de Salsa en Miami es mucho más que un simple evento de baile; es una celebración de la música\, la cultura y la comunidad latina. Es una oportunidad para aprender\, disfrutar y conectar con personas de todo el mundo que comparten una pasión por la salsa. Ya sea que seas un principiante o un bailarín experimentado\, este congreso ofrece algo para todos. Así que prepárate para bailar\, disfrutar de la música y sumergirte en la magia del Congreso de Salsa en Miami.
URL:https://quehacermagazine.com/evento/congreso-de-salsa-miami-2024/
LOCATION:Copper Blues Miami\, 3450 NW 83rd Ave #224\,\, Doral\, Florida\, 33122\, Estados Unidos
CATEGORIES:conciertos
ATTACH;FMTTYPE=image/png:https://quehacermagazine.com/wp-content/uploads/congreso-de-salsa-Miami-2024.png
END:VEVENT
BEGIN:VEVENT
DTSTART;TZID=America/New_York:20240217T193000
DTEND;TZID=America/New_York:20240217T213000
DTSTAMP:20260423T122203
CREATED:20240217T190200Z
LAST-MODIFIED:20240724T185443Z
UID:4556-1708198200-1708205400@quehacermagazine.com
SUMMARY:Concierto Tributo a Fleetwood Mac - ¡GRATIS!
DESCRIPTION:La serie de conciertos en vivo de Schumacher presenta un tributo a Fleetwood Mac: ¡un concierto GRATUITO! NO SE REQUIERE ENTRADA. \nPor Legends Radio 100.3 FM / Dick Robinson Entertainment LLC \nFecha y hora \nSábado 17 de febrero · 7:30 – 9:30 pm EST \nUbicación \nAnfiteatro del centro de Abacoa \n1267 Main Street Jupiter\, FL 33458 \nAcerca de este evento \nSerie de conciertos en vivo de Schumacher – Tributo a Fleetwood Mac – ¡Un concierto GRATUITO! \nNOTA: Este es un espectáculo GRATUITO para todos – NO SE REQUIERE ENTRADA. También ofrecemos un número limitado de ESPACIOS DE CÉSPED PREFERIDOS RESERVADOS (¡incluye una silla para la noche y 1 boleto para una bebida de su elección!) \n¡Únase a nosotros para una increíble serie de conciertos en vivo en el Anfiteatro del Centro de Abacoa! No pierda la oportunidad de asegurar su asiento preferido reservado para una excelente vista del escenario. ¡Reúne a tus amigos y prepárate para disfrutar de otro evento de concierto imperdible! \nAsientos preferidos reservados \nEstos asientos no son obligatorios\, pero se recomiendan si desea un asiento garantizado con una buena vista del escenario. La entrada general es gratuita y por orden de llegada. \nQué está incluido \n\nUn asiento en la zona de césped preferida\nUna silla para la noche\n1 boleto para una bebida de su elección\n\nPrecio \n$25 por asiento \nEstacionamiento \nHay estacionamiento gratuito disponible en el lugar. \nComida y bebida \nHabrá vendedores de comida y bebida disponibles para comprar en el lugar. \nNo se permiten mascotas \nNo se permiten mascotas en el anfiteatro. \nPreguntas frecuentes \nVisite el sitio web del evento para obtener más información y preguntas frecuentes: Click aquí para mas información del evento \n¡Esperamos verte allí!
URL:https://quehacermagazine.com/evento/concierto-tributo-a-fleetwood-mac-gratis/
CATEGORIES:conciertos
ATTACH;FMTTYPE=image/png:https://quehacermagazine.com/wp-content/uploads/tributo-a-fleetwood-mac-1.png
END:VEVENT
BEGIN:VEVENT
DTSTART;VALUE=DATE:20240202
DTEND;VALUE=DATE:20240205
DTSTAMP:20260423T122203
CREATED:20240131T023453Z
LAST-MODIFIED:20240724T185504Z
UID:4458-1706832000-1707091199@quehacermagazine.com
SUMMARY:GroundUP Music Festival
DESCRIPTION:GroundUP Music Festival: Tres días de música jazz y world music en Miami Beach \n  \n  \n¿Eres un amante de la música jazz y world music? \n¿Buscas una experiencia única y memorable? \nEntonces no te pierdas el GroundUP Music Festival\, que se celebrará del 2 al 4 de febrero de 2024 en Miami Beach\, Florida. \n \nArtistas confirmados: \nEl GroundUP Music Festival presenta una amplia gama de artistas internacionales\, incluyendo: \nEliades Ochoa\, el legendario músico cubano conocido por su trabajo con la agrupación Buena Vista Social Club.\nDavid Crosby\, el miembro fundador de las bandas Crosby\, Stills\, Nash & Young y The Byrds.\nSnarky Puppy\, la banda estadounidense de jazz fusión que ha ganado cuatro premios Grammy.\nEsperanza Spalding\, la bajista\, cantante y compositora estadounidense que ha ganado dos premios Grammy.\nKurt Rosenwinkel\, el guitarrista de jazz estadounidense que ha sido nominado a 11 premios Grammy.\nCory Henry\, el tecladista y cantante estadounidense\, miembro de la banda Snarky Puppy. \nAdemás de los conciertos en vivo\, el GroundUP Music Festival ofrece una variedad de actividades\, incluyendo: \nTalleres y clases magistrales impartidas por artistas y profesionales de la música.\nUn mercado de artesanías donde se pueden adquirir productos de artistas locales.\nUn área de comida y bebida donde se pueden degustar platos típicos de la cocina local. \nEl GroundUP Music Festival es un evento imperdible para los amantes de la música jazz y world music. \nEl festival ofrece una oportunidad única para ver a algunos de los mejores artistas del mundo en un entorno íntimo. \n  \nInformación sobre la venta de entradas: el festival ofrece una variedad de opciones de entradas\, desde entradas de un día hasta entradas VIP.\nInformación sobre el transporte: el festival se encuentra ubicado en el centro de Miami Beach\, y es fácilmente accesible en transporte público o automóvil.\nInformación sobre el alojamiento: hay una variedad de hoteles y alojamientos cerca del festival.
URL:https://quehacermagazine.com/evento/groundup-music-festival/
CATEGORIES:conciertos
ATTACH;FMTTYPE=image/png:https://quehacermagazine.com/wp-content/uploads/Diseno-sin-titulo-2024-01-30T204909.998.png
END:VEVENT
BEGIN:VEVENT
DTSTART;VALUE=DATE:20240127
DTEND;VALUE=DATE:20240129
DTSTAMP:20260423T122203
CREATED:20240108T143141Z
LAST-MODIFIED:20240108T143141Z
UID:3791-1706313600-1706486399@quehacermagazine.com
SUMMARY:Port St. Lucie Seafood Festival
DESCRIPTION:El anticipado Festival de Comida del Mar en Port St. Lucie está listo para cautivar a los amantes de los sabores marinos los días 27 y 28 de enero de 2024. Este evento anual promete sumergir a los visitantes en un festín culinario inolvidable\, resaltando la frescura y la diversidad de los productos del mar locales. Desde exquisitas degustaciones de mariscos frescos hasta platos innovadores presentados por destacados chefs de la región\, los asistentes se embarcarán en un viaje gastronómico que celebra la riqueza de los sabores oceánicos. Además de las delicias culinarias\, el festival ofrecerá experiencias interactivas\, demostraciones de cocina en vivo\, música en directo y actividades para toda la familia\, creando un ambiente festivo y acogedor. Con la participación activa de la comunidad y la promesa de deleitar los sentidos\, el Festival de Comida del Mar en Port St. Lucie del 2024 se presenta como un evento culinario imperdible que destaca lo mejor de la costa y la hospitalidad local.
URL:https://quehacermagazine.com/evento/port-st-lucie-seafood-festival/
ATTACH;FMTTYPE=image/png:https://quehacermagazine.com/wp-content/uploads/PORT-ST-LUCIE-SEAFOOD-FESTIVAL.png
END:VEVENT
BEGIN:VEVENT
DTSTART;TZID=America/New_York:20240121T140000
DTEND;TZID=America/New_York:20240121T200000
DTSTAMP:20260423T122203
CREATED:20240121T161630Z
LAST-MODIFIED:20240121T163949Z
UID:4103-1705845600-1705867200@quehacermagazine.com
SUMMARY:Vegan Street Party
DESCRIPTION:¡No te pierdas la Fiesta Vegana en las Calles de Fort Lauderdale! ¡Una emocionante celebración de todo lo relacionado con alimentos a base de plantas\, música\, bebidas\, postres y más!
URL:https://quehacermagazine.com/evento/vegan-street-party/
ATTACH;FMTTYPE=image/png:https://quehacermagazine.com/wp-content/uploads/Diseno-sin-titulo-2024-01-21T113908.081.png
END:VEVENT
BEGIN:VEVENT
DTSTART;VALUE=DATE:20240112
DTEND;VALUE=DATE:20240129
DTSTAMP:20260423T122203
CREATED:20240108T014556Z
LAST-MODIFIED:20240724T185727Z
UID:3760-1705017600-1706486399@quehacermagazine.com
SUMMARY:South Florida Fair
DESCRIPTION:La Feria del Sur de la Florida\, un evento anual vibrante y esperado\, se lleva a cabo cada enero en la pintoresca ciudad de West Palm Beach. Este festival\, lleno de energía y diversidad\, ofrece una experiencia única para visitantes de todas las edades. Con una amplia gama de atracciones que van desde emocionantes montañas rusas hasta puestos de comida internacional\, la feria captura la esencia del espíritu comunitario y la celebración cultural. Los asistentes pueden disfrutar de actuaciones en vivo\, exhibiciones artísticas\, y participar en actividades interactivas que destacan la rica herencia de la región. Además\, la Feria del Sur de la Florida proporciona una plataforma para empresarios locales y artesanos\, creando un ambiente festivo donde la comunidad puede conectar\, compartir y celebrar la diversidad que define a este próspero rincón del estado. Con su colorido despliegue de entretenimiento\, gastronomía y cultura\, esta feria se ha convertido en un evento anual imperdible que deja a los visitantes con recuerdos duraderos y una sensación de pertenencia a la animada comunidad de West Palm Beach.
URL:https://quehacermagazine.com/evento/south-florida-fair/
ATTACH;FMTTYPE=image/png:https://quehacermagazine.com/wp-content/uploads/South-Florida-Fair.png
END:VEVENT
BEGIN:VEVENT
DTSTART;VALUE=DATE:20240107
DTEND;VALUE=DATE:20240229
DTSTAMP:20260423T122203
CREATED:20240108T025122Z
LAST-MODIFIED:20240110T012643Z
UID:3772-1704585600-1709164799@quehacermagazine.com
SUMMARY:Jungle Island LUMINOSA
DESCRIPTION:El Festival de Luces Luminosa en Jungle Island\, Miami\, se erige como un deslumbrante espectáculo que transforma este icónico parque en una experiencia nocturna encantadora. Cada año\, durante este evento\, Jungle Island se ilumina con una amalgama de colores y efectos luminosos que dan vida a la exuberante vegetación y atractivos del lugar. Las instalaciones de luz deslumbrantes\, desde túneles iluminados hasta esculturas resplandecientes\, crean un paisaje de ensueño que cautiva a visitantes de todas las edades. Además de la espectacularidad visual\, el festival ofrece actividades interactivas\, entretenimiento en vivo y opciones gastronómicas que complementan la experiencia luminosa. Tanto residentes como turistas se sumergen en la magia de este festival\, convirtiéndolo en una tradición anual que celebra la belleza natural de Jungle Island de una manera totalmente nueva y fascinante.
URL:https://quehacermagazine.com/evento/jungle-island-luminosa/
ATTACH;FMTTYPE=image/png:https://quehacermagazine.com/wp-content/uploads/luminosa-3.png
END:VEVENT
BEGIN:VEVENT
DTSTART;TZID=America/New_York:20230423T180000
DTEND;TZID=America/New_York:20230423T200000
DTSTAMP:20260423T122203
CREATED:20230303T010532Z
LAST-MODIFIED:20240724T185601Z
UID:3687-1682272800-1682280000@quehacermagazine.com
SUMMARY:Los Prisioneros
DESCRIPTION:
URL:https://quehacermagazine.com/evento/los-prisioneros/
CATEGORIES:conciertos
END:VEVENT
BEGIN:VEVENT
DTSTART;VALUE=DATE:20230304
DTEND;VALUE=DATE:20230306
DTSTAMP:20260423T122203
CREATED:20230303T020300Z
LAST-MODIFIED:20230303T020300Z
UID:3718-1677888000-1678060799@quehacermagazine.com
SUMMARY:Carnaval on the Mile
DESCRIPTION:
URL:https://quehacermagazine.com/evento/carnaval-on-the-mile/
END:VEVENT
END:VCALENDAR